BEGIN:VCALENDAR
VERSION:2.0
PRODID:-//Doctors Supplement Store - ECPv6.15.20//NONSGML v1.0//EN
CALSCALE:GREGORIAN
METHOD:PUBLISH
X-WR-CALNAME:Doctors Supplement Store
X-ORIGINAL-URL:https://doctorssupplementstore.com
X-WR-CALDESC:Events for Doctors Supplement Store
REFRESH-INTERVAL;VALUE=DURATION:PT1H
X-Robots-Tag:noindex
X-PUBLISHED-TTL:PT1H
BEGIN:VTIMEZONE
TZID:America/Chicago
BEGIN:DAYLIGHT
TZOFFSETFROM:-0600
TZOFFSETTO:-0500
TZNAME:CDT
DTSTART:20240310T080000
END:DAYLIGHT
BEGIN:STANDARD
TZOFFSETFROM:-0500
TZOFFSETTO:-0600
TZNAME:CST
DTSTART:20241103T070000
END:STANDARD
BEGIN:DAYLIGHT
TZOFFSETFROM:-0600
TZOFFSETTO:-0500
TZNAME:CDT
DTSTART:20250309T080000
END:DAYLIGHT
BEGIN:STANDARD
TZOFFSETFROM:-0500
TZOFFSETTO:-0600
TZNAME:CST
DTSTART:20251102T070000
END:STANDARD
BEGIN:DAYLIGHT
TZOFFSETFROM:-0600
TZOFFSETTO:-0500
TZNAME:CDT
DTSTART:20260308T080000
END:DAYLIGHT
BEGIN:STANDARD
TZOFFSETFROM:-0500
TZOFFSETTO:-0600
TZNAME:CST
DTSTART:20261101T070000
END:STANDARD
BEGIN:DAYLIGHT
TZOFFSETFROM:-0600
TZOFFSETTO:-0500
TZNAME:CDT
DTSTART:20270314T080000
END:DAYLIGHT
BEGIN:STANDARD
TZOFFSETFROM:-0500
TZOFFSETTO:-0600
TZNAME:CST
DTSTART:20271107T070000
END:STANDARD
END:VTIMEZONE
BEGIN:VEVENT
DTSTART;VALUE=DATE:20250502
DTEND;VALUE=DATE:20250504
DTSTAMP:20260422T095145
CREATED:20250429T184010Z
LAST-MODIFIED:20250429T184010Z
UID:10000065-1746144000-1746316799@doctorssupplementstore.com
SUMMARY:2025 CNPA Summit - Nourish to Flourish
DESCRIPTION:CNPA’s Board of Directors is excited to be welcoming you to our 2025 Summit. Join us for two days of gathering together to learn and connect! \nNourish to Flourish will offer a total of 15 CE hours\, with 11 hours presented live and in-person\, and 4 hours available virtually. We have scheduled breakout sessions and more opportunities for movement and community-building throughout the weekend. We hope you’ll bring your families along for the fun\, too! To download a PDF of our Summit Schedule\, click the Summit Schedule image or click here
URL:https://doctorssupplementstore.com/event/cnpa2025/
LOCATION:The Heritage Hotel and Conference Center\, 522 Heritage Rd.\, Southbury\, CT\, 06488\, United States
CATEGORIES:In-Person Events,Live Events,Medical Education
ATTACH;FMTTYPE=image/png:https://doctorssupplementstore.com/wp-content/uploads/2025/04/Images-for-Events-page-Compress-before-download-6.png
END:VEVENT
BEGIN:VEVENT
DTSTART;TZID=America/Chicago:20250813T120000
DTEND;TZID=America/Chicago:20250813T130000
DTSTAMP:20260422T095145
CREATED:20250721T215638Z
LAST-MODIFIED:20250721T220054Z
UID:10000073-1755086400-1755090000@doctorssupplementstore.com
SUMMARY:Webinar: Integrative Management of Pediatric Autoimmune Neuropsychiatric Syndrome (PANS)
DESCRIPTION:This presentation is designed to be a standalone tool for practitioners to begin applying integrative strategies to managing patients with Pediatric Autoimmune Neuropsychiatric Syndrome (PANS). This will include herbal supplements to address inflammation and immune modulation. In addition\, practitioners will learn how to incorporate herbal supplements into the treatment arsenal for underlying infections. Specific dosing and strategies to avoid Herxheimer reactions will be addresses as well. Participants will leave with the knowledge of simple\, safe\, and effective treatment options for immediate implementation in their practice. Upon completion of Teresa Holler’s presentation\, participants will be aware of the following: \n\nHow to integrate nutraceuticals to manage inflammation and immune modulation in PANS\nThe research\, practical applications\, and dosing of herbal antimicrobials in PANS\nTargeted supplements for OCD\nIntegrative tools for managing Herxheimer reactions and symptom abatement in PANS flares\n\nREGISTER HERE
URL:https://doctorssupplementstore.com/event/webinar-integrative-management-of-pediatric-autoimmune-neuropsychiatric-syndrome-pans/
LOCATION:Online
CATEGORIES:Continuing Education,DSS is attending,Educational Event,Free Events,Integrative Medicine,Live Events
ATTACH;FMTTYPE=image/png:https://doctorssupplementstore.com/wp-content/uploads/2025/07/Webinar_DSS-Events-Page-Feature-Imagesmall.png
END:VEVENT
BEGIN:VEVENT
DTSTART;TZID=America/Chicago:20251121T120000
DTEND;TZID=America/Chicago:20251121T130000
DTSTAMP:20260422T095145
CREATED:20251118T211506Z
LAST-MODIFIED:20251118T211552Z
UID:10000077-1763726400-1763730000@doctorssupplementstore.com
SUMMARY:Uncommonly Good Practice Builders: How to Talk to Patients About Professional-Grade Supplements
DESCRIPTION:REGISTER \nYour patients are making supplement choices that sabotage your treatment plans. And honestly? It’s not entirely their fault. \nThey don’t know the difference between a quality pharmaceutical-grade supplement and the store-brand bottle that’s missing 60% of its labeled ingredients. \nThat’s where Uncommonly Good Practice Builders comes in. \nThis month\, we’re bringing together healthcare providers who are done losing patients to cheap supplement recommendations.  \nWith our guest expert Carla Copas\, we’ll walk through the exact framework that turns supplement conversations from awkward sales pitches into trust-building educational moments. \nWhat You’ll Learn: \n\nThe G.A.T.E.S. framework—a conversation script that removes objections naturally\nHow to explain why quality matters in 60 seconds (without sounding like a salesperson)\nReal-world examples for cardiovascular health\, prenatal care\, probiotics\, and more\nSystems to keep patients compliant and coming back\n\nIt’s 100% free\, so register here: https://results.dssorders.com/november2026
URL:https://doctorssupplementstore.com/event/uncommonly-good-practice-builders-how-to-talk-to-patients-about-professional-grade-supplements/
LOCATION:Online
CATEGORIES:Continuing Education,DSS is attending,Live Events,Networking,Online,Virtual
ATTACH;FMTTYPE=image/png:https://doctorssupplementstore.com/wp-content/uploads/2025/11/Images-for-Events-page-Compress-before-download-3.png
ORGANIZER;CN="Doctors Supplement Store":MAILTO:support@dssorders.com
END:VEVENT
BEGIN:VEVENT
DTSTART;TZID=America/Chicago:20260219T080000
DTEND;TZID=America/Chicago:20260221T170000
DTSTAMP:20260422T095145
CREATED:20260112T194322Z
LAST-MODIFIED:20260112T194322Z
UID:10000079-1771488000-1771693200@doctorssupplementstore.com
SUMMARY:Integrative Healthcare Symposium 2026
DESCRIPTION:The 21st Annual Integrative Healthcare Symposium offers a premier educational experience designed for integrative health professionals and forward-thinking practitioners. The program delivers comprehensive\, evidence-based insights with practical applications you can immediately bring back to strengthen and validate your practice. \nFrom Medical Doctors and Doctors of Osteopathy to Naturopathic Doctors\, Registered Dietitian Nutritionists\, Nurse Practitioners\, Registered Nurses\, Health Coaches and others\, you will gain access to an exceptional mix of in-depth educational sessions and meaningful networking opportunities with leaders across the field. REGISTER
URL:https://doctorssupplementstore.com/event/integrative-healthcare-symposium-2026/
LOCATION:New York Hilton Midtown\, 1335 6th Ave\, New York\, NY\, 10019\, United States
CATEGORIES:Conference,Continuing Education,DSS is attending,Educational Event,Integrative Medicine,Live Events,Networking
ATTACH;FMTTYPE=image/png:https://doctorssupplementstore.com/wp-content/uploads/2026/01/IHS-2026.png
END:VEVENT
BEGIN:VEVENT
DTSTART;TZID=America/Chicago:20260307T080000
DTEND;TZID=America/Chicago:20260307T150000
DTSTAMP:20260422T095145
CREATED:20260112T201026Z
LAST-MODIFIED:20260112T201026Z
UID:10000080-1772870400-1772895600@doctorssupplementstore.com
SUMMARY:Integrative Wellness Summit StL 2026
DESCRIPTION:Join us for an exciting in-person event at the Water’s Edge Banquet Center in St. Peter’s Missouri. The Integrative Wellness Summit StL 2026 is your chance to explore holistic health and wellness. Whether you’re a healthcare professional who’s a wellness enthusiast or who’s looking to expand your knowledge\, this summit is for you. Don’t miss out on this incredible opportunity to network with other like-minded professionals\, enhance your well-being\, embrace a healthier lifestyle\, and expand your knowledge to better serve your patients and clients. Mark your calendar\, grab your ticket\, and get ready for an unforgettable experience! REGISTER
URL:https://doctorssupplementstore.com/event/integrative-wellness-summit-stl-2026/
LOCATION:Water’s Edge Banquet Center\, Salt Lick Road\, St. Peters\, MO\, United States
CATEGORIES:Conference,Continuing Education,DSS is attending,Educational Event,Integrative Medicine,Live Events,Networking
ATTACH;FMTTYPE=image/png:https://doctorssupplementstore.com/wp-content/uploads/2026/01/IWS-2026.png
END:VEVENT
BEGIN:VEVENT
DTSTART;TZID=America/Chicago:20260320T100000
DTEND;TZID=America/Chicago:20260322T120000
DTSTAMP:20260422T095145
CREATED:20260113T190921Z
LAST-MODIFIED:20260113T190921Z
UID:10000082-1774000800-1774180800@doctorssupplementstore.com
SUMMARY:DABCI Gateway Reunion
DESCRIPTION:◦ Expanding diagnostic tools to clarify complex patient cases\n◦ Integrating clinical and occupational testing for fuller assessments\n◦ Translating lab data into clear\, actionable next steps\n◦ Identifying reactive foods and restoring gut balance\n◦ Applying real-world protocols to everyday clinical challenges\n◦ Understanding advanced diagnostic options and when to use\n◦ Supporting gut repair with evidence-informed evaluations\n◦ Strengthening patient outcomes through targeted\, data-driven decisions \nREGISTER
URL:https://doctorssupplementstore.com/event/dabci-gateway-reunion/
LOCATION:Hilton St. Louis Airport\, 10330 Natural Bridge Road\, St. Louis\, MO\, 63134\, United States
CATEGORIES:Conference,Continuing Education,DSS is attending,Educational Event,In-Person Events,Live Events,Networking
ATTACH;FMTTYPE=image/png:https://doctorssupplementstore.com/wp-content/uploads/2026/01/DABCI-2026-2.png
END:VEVENT
BEGIN:VEVENT
DTSTART;TZID=America/Chicago:20260417T080000
DTEND;TZID=America/Chicago:20260419T170000
DTSTAMP:20260422T095145
CREATED:20260113T191037Z
LAST-MODIFIED:20260113T191037Z
UID:10000083-1776412800-1776618000@doctorssupplementstore.com
SUMMARY:DesBio Power of Three
DESCRIPTION:Join the most influential gathering of heart-centered\, successful\, integrative health practitioners and discover the future of medicine—where cutting-edge science meets deep-rooted healing. \n◦ Meet the visionaries who are redefining homeopathy\, bioregulatory medicine\, and terrain-based healing.\n◦ Talk 1:1 with industry-leading experts who can fast-track your clinical and business breakthroughs.\n◦ Build authentic connections with like-minded practitioners\, forming collaborations that elevate your practice and expand your impact.\n◦ Walk away with strategies that increase patient success\, scale your revenue\, and reignite your passion for healing. \nREGISTER
URL:https://doctorssupplementstore.com/event/desbio-power-of-three/
LOCATION:The Scott Resort & Spa\, 4925 N Scottsdale Rd\, Scottsdale\, AZ\, 85251\, United States
CATEGORIES:Conference,Continuing Education,DSS is attending,Educational Event,Integrative Medicine,Live Events,Networking
ATTACH;FMTTYPE=image/png:https://doctorssupplementstore.com/wp-content/uploads/2026/01/DesBio-2026.png
END:VEVENT
BEGIN:VEVENT
DTSTART;VALUE=DATE:20260515
DTEND;VALUE=DATE:20260518
DTSTAMP:20260422T095145
CREATED:20260324T190437Z
LAST-MODIFIED:20260324T192324Z
UID:10000089-1778803200-1779062399@doctorssupplementstore.com
SUMMARY:AAMP Spring Conference
DESCRIPTION:The event emphasizes assessment\, diagnosis\, and therapeutics for complex conditions like Long COVID\, FMS\, and ME-CFS\, integrating emerging research on immune signaling\, mast cell activation\, biofilm resistance\, and regenerative therapies\, designed for physicians and practitioners aiming to deepen their clinical skills. Overall\, the conference consolidates current research and clinical practices to enhance understanding and management of post-viral and chronic illness syndromes. Sessions explore managing mast cell activation\, chemical sensitivities\, chronic infections\, and immune modulation\, with clinical case reviews and practical treatment templates. The conference promotes integrating these strategies to improve patient tolerability and outcomes. REGISTER
URL:https://doctorssupplementstore.com/event/aamp-spring-conference/
LOCATION:Hilton Scottsdale Resort & Villas\, 6333 N. Scottsdale Rd.\, Scottsdale\, AZ\, 85250\, United States
CATEGORIES:Conference,DSS is attending,Educational Event,In-Person Events,Live Events,Medical Education,Networking
ATTACH;FMTTYPE=image/png:https://doctorssupplementstore.com/wp-content/uploads/2026/03/AAMP-Spring-2026-3.png
END:VEVENT
BEGIN:VEVENT
DTSTART;TZID=America/Chicago:20260527T080000
DTEND;TZID=America/Chicago:20260530T170000
DTSTAMP:20260422T095145
CREATED:20260113T191426Z
LAST-MODIFIED:20260113T191426Z
UID:10000084-1779868800-1780160400@doctorssupplementstore.com
SUMMARY:IFM's AIC 2026
DESCRIPTION:Explore how innovation\, collaboration\, and human connection can transform the future of health. Grounded in scientific rigor and systems thinking\, the theme of AIC 2026 invites practitioners across disciplines to reimagine how we can extend and enrich the healthspan—placing patients\, their experiences\, and the power of connection at the center of every solution. \nTopics determined by this year’s AIC Steering Committee will explore advances in functional medicine research\, clinical applications of artificial intelligence (AI)\, personalized nutrition\, genomics\, the gut-brain axis\, biorhythm and circadian health\, women’s health\, the implementation of functional medicine in conventional healthcare institutions\, and other methods for optimizing patients’ healthspans. \nNEW THIS YEAR! All conference attendees will receive an audio-video package of full conference proceedings as part of their registration. REGISTER
URL:https://doctorssupplementstore.com/event/ifms-aic-2026/
LOCATION:Manchester GrandHyatt San Diego\, 1 Market Pl\, San Diego\, CA\, 92101\, United States
CATEGORIES:Conference,Continuing Education,DSS is attending,Educational Event,Integrative Medicine,Live Events,Networking
ATTACH;FMTTYPE=image/png:https://doctorssupplementstore.com/wp-content/uploads/2026/01/IFM-2026.png
ORGANIZER;CN="The Institute for Functional Medicine":MAILTO:info@ifm.org
END:VEVENT
END:VCALENDAR