BEGIN:VCALENDAR
VERSION:2.0
PRODID:-//Doctors Supplement Store - ECPv6.15.20//NONSGML v1.0//EN
CALSCALE:GREGORIAN
METHOD:PUBLISH
X-ORIGINAL-URL:https://doctorssupplementstore.com
X-WR-CALDESC:Events for Doctors Supplement Store
REFRESH-INTERVAL;VALUE=DURATION:PT1H
X-Robots-Tag:noindex
X-PUBLISHED-TTL:PT1H
BEGIN:VTIMEZONE
TZID:America/Chicago
BEGIN:DAYLIGHT
TZOFFSETFROM:-0600
TZOFFSETTO:-0500
TZNAME:CDT
DTSTART:20240310T080000
END:DAYLIGHT
BEGIN:STANDARD
TZOFFSETFROM:-0500
TZOFFSETTO:-0600
TZNAME:CST
DTSTART:20241103T070000
END:STANDARD
BEGIN:DAYLIGHT
TZOFFSETFROM:-0600
TZOFFSETTO:-0500
TZNAME:CDT
DTSTART:20250309T080000
END:DAYLIGHT
BEGIN:STANDARD
TZOFFSETFROM:-0500
TZOFFSETTO:-0600
TZNAME:CST
DTSTART:20251102T070000
END:STANDARD
BEGIN:DAYLIGHT
TZOFFSETFROM:-0600
TZOFFSETTO:-0500
TZNAME:CDT
DTSTART:20260308T080000
END:DAYLIGHT
BEGIN:STANDARD
TZOFFSETFROM:-0500
TZOFFSETTO:-0600
TZNAME:CST
DTSTART:20261101T070000
END:STANDARD
END:VTIMEZONE
BEGIN:VEVENT
DTSTART;VALUE=DATE:20250904
DTEND;VALUE=DATE:20250907
DTSTAMP:20260419T155502
CREATED:20250701T193734Z
LAST-MODIFIED:20250701T193734Z
UID:10000069-1756944000-1757203199@doctorssupplementstore.com
SUMMARY:MAPS Fall 2025 Functional & Translational Medicine Conference
DESCRIPTION:Explore new information on various treatment options and cutting-edge medical research. \nThursday will host an introductory course\, Foundation of MAPS\, along with the final ACM course\, MAPS in Clinical Practice. In addition\, there will be an advanced course for experienced practitioners covering some of the newest Innovations in Integrative Pediatrics. This conference will have two days of plenary sessions covering the topic of Gut Health and the Intricacies of the Microbiome.
URL:https://doctorssupplementstore.com/event/maps-fall-2025-functional-translational-medicine-conference/
LOCATION:DoubleTree Scottsdale\, Arizona\, 5401 N Scottsdale Rd\, Scottsdale\, AZ\, 85250\, United States
CATEGORIES:Continuing Education,DSS is attending,In-Person Events,Paid Events
ATTACH;FMTTYPE=image/png:https://doctorssupplementstore.com/wp-content/uploads/2025/07/MAPS-Fall-2025.png
END:VEVENT
BEGIN:VEVENT
DTSTART;VALUE=DATE:20250911
DTEND;VALUE=DATE:20250915
DTSTAMP:20260419T155502
CREATED:20250701T193351Z
LAST-MODIFIED:20250701T193351Z
UID:10000068-1757548800-1757894399@doctorssupplementstore.com
SUMMARY:National Nutrition Standard 2025 Conference –Harnessing Nutritional Science for Enhanced Longevity and Wellness
DESCRIPTION:The annual organization symposium is an opportunity to get ahead of the latest innovations in clinical nutrition research. It’s dedicated to the continuing education of physicians as it relates to clinical nutrition. It also provides an opportunity for students and practitioners alike to engage in dialogue with nationally-known speakers in the field of clinical nutrition. \nThe symposium provides for a fun and interactive environment to engage with exhibitors of nutritional products\, enjoy educational lecture series focused on the theme of the conference\, find sponsorship opportunities\, as well as other fun and engaging activities in a relaxed setting.
URL:https://doctorssupplementstore.com/event/national-nutrition-standard-2025-conference-harnessing-nutritional-science-for-enhanced-longevity-and-wellness/
LOCATION:Sheraton Niagara Falls\, New York
CATEGORIES:Continuing Education,DSS is attending,In-Person Events,Paid Events
ATTACH;FMTTYPE=image/png:https://doctorssupplementstore.com/wp-content/uploads/2025/07/NNS2025.png
END:VEVENT
BEGIN:VEVENT
DTSTART;VALUE=DATE:20250926
DTEND;VALUE=DATE:20250929
DTSTAMP:20260419T155502
CREATED:20250714T170544Z
LAST-MODIFIED:20250821T163842Z
UID:10000071-1758844800-1759103999@doctorssupplementstore.com
SUMMARY:Trinity Live 2025
DESCRIPTION:Find Your Community and Expand Your Skills at Trinity Live! \nTrinity Live combines the quality education you expect from us with hands-on practice and face-to-face interaction. In addition\, you’ll be able to work with your instructors and other practitioners to sharpen the skills you’ve learned throughout your training. Graduates and current students from all programs are welcome to attend. \nThis event includes lunch on Saturday and Sunday and provides 16 hours of naturopathic CEUs for only $350. \n2025 Topics:\nUnderstanding Personality Types Through Iridology\nMRT: Detecting Emotional Issues in the Body\nFloral Acupressure\nUnlock the Power of Fasting\nCleanses and Detoxification\nVagal Toning: Supporting the Body’s Master Regulator\nCase Presentation: A Holistic Panel Discussion \nREGISTER HERE
URL:https://doctorssupplementstore.com/event/trinity-live-2025/
LOCATION:Embassy Suites Event Center\, 2353 Perry Rd.\, Plainfield\, IN\, 46168\, United States
CATEGORIES:Conference,Continuing Education,DSS is attending,Educational Event,In-Person Events
ATTACH;FMTTYPE=image/png:https://doctorssupplementstore.com/wp-content/uploads/2025/07/Trinity-gold.png
END:VEVENT
BEGIN:VEVENT
DTSTART;TZID=America/Chicago:20250930T160000
DTEND;TZID=America/Chicago:20250930T170000
DTSTAMP:20260419T155502
CREATED:20250904T184407Z
LAST-MODIFIED:20250916T202125Z
UID:10000074-1759248000-1759251600@doctorssupplementstore.com
SUMMARY:Webinar: How sulforaphane impacts cellular switches to fast-track clinical outcomes
DESCRIPTION:CLICK HERE TO REGISTER \nThe practice of natural medicine has become extraordinarily complicated\, so much so that one might question if it has moved outside the boundaries of its traditional roots. Amidst a plethora of new tests and a growing range of supplements is SULFORAPHANE\, a food-derived molecule that has stood the test of time. As both a food and a medicine\, modern science has discovered that sulforaphane is no ordinary plant molecule. Because it is the most potent naturally-occurring activator of the genetic ‘switch’ that governs hundreds of core cellular functions\, we can utilize it as a foundation prescription to fast-track – and prevent – acute and chronic conditions. \nSince the launch of the Gut Ecology & Metabolic Modulation (G.E.M.M.) Protocol in mid-2019\, so much more has been learned about its remarkable effectiveness in restoring the restoring gut health\, eliminating food intolerances\, rapidly correcting inflammatory skin disorders like eczema\, psoriasis and rosacea\, normalizing hormonal imbalances – and more. \nJoin speakers Dr. Christine Houghton and Matt Lim to learn the ways in which you can take your practice to a whole new level\, as did they when they learned how sulforaphane can target the key upstream processes every cell uses to optimize its function. \nAll qualified registrants will receive 50% off the G.E.M.M. Foundations course\, PLUS one lucky attendee will win a FREE course!*  CLICK HERE TO REGISTER \n*conditions apply.
URL:https://doctorssupplementstore.com/event/how-sulforaphane-impacts-cellular-switches/
LOCATION:Online
CATEGORIES:Continuing Education,DSS is attending,Educational Event,Free Events,Online,Virtual,Webinar
ATTACH;FMTTYPE=image/png:https://doctorssupplementstore.com/wp-content/uploads/2025/09/Images-for-Events-page-Compress-before-download.png
ORGANIZER;CN="Cell-Logic USA":MAILTO:CustomerService@Cell-Logic-USA.com
END:VEVENT
END:VCALENDAR