BEGIN:VCALENDAR
VERSION:2.0
PRODID:-//Doctors Supplement Store - ECPv6.15.20//NONSGML v1.0//EN
CALSCALE:GREGORIAN
METHOD:PUBLISH
X-ORIGINAL-URL:https://doctorssupplementstore.com
X-WR-CALDESC:Events for Doctors Supplement Store
REFRESH-INTERVAL;VALUE=DURATION:PT1H
X-Robots-Tag:noindex
X-PUBLISHED-TTL:PT1H
BEGIN:VTIMEZONE
TZID:America/Chicago
BEGIN:DAYLIGHT
TZOFFSETFROM:-0600
TZOFFSETTO:-0500
TZNAME:CDT
DTSTART:20240310T080000
END:DAYLIGHT
BEGIN:STANDARD
TZOFFSETFROM:-0500
TZOFFSETTO:-0600
TZNAME:CST
DTSTART:20241103T070000
END:STANDARD
BEGIN:DAYLIGHT
TZOFFSETFROM:-0600
TZOFFSETTO:-0500
TZNAME:CDT
DTSTART:20250309T080000
END:DAYLIGHT
BEGIN:STANDARD
TZOFFSETFROM:-0500
TZOFFSETTO:-0600
TZNAME:CST
DTSTART:20251102T070000
END:STANDARD
BEGIN:DAYLIGHT
TZOFFSETFROM:-0600
TZOFFSETTO:-0500
TZNAME:CDT
DTSTART:20260308T080000
END:DAYLIGHT
BEGIN:STANDARD
TZOFFSETFROM:-0500
TZOFFSETTO:-0600
TZNAME:CST
DTSTART:20261101T070000
END:STANDARD
END:VTIMEZONE
BEGIN:VEVENT
DTSTART;VALUE=DATE:20250501
DTEND;VALUE=DATE:20250504
DTSTAMP:20260419T220955
CREATED:20250429T182700Z
LAST-MODIFIED:20250429T182700Z
UID:10000064-1746057600-1746316799@doctorssupplementstore.com
SUMMARY:Logan University Symposium 2025
DESCRIPTION:Join us for a series of engaging learning opportunities\, exciting social events and the chance to connect with peers in an unforgettable event. Don’t miss out on this remarkable occasion—mark your calendars and be part of this historic moment! \nREGISTER
URL:https://doctorssupplementstore.com/event/logan-university-symposium-2025/
LOCATION:Logan University\, 1851 Schoettler Rd.\, Chesterfield\, MO\, 63017\, United States
CATEGORIES:Conference,Continuing Education,DSS is attending,Educational Event,In-Person Events
ATTACH;FMTTYPE=image/png:https://doctorssupplementstore.com/wp-content/uploads/2025/04/Images-for-Events-page-Compress-before-download-4.png
ORGANIZER;CN="Logan University":MAILTO:Admissions@logan.edu
END:VEVENT
BEGIN:VEVENT
DTSTART;TZID=America/Chicago:20250513T120000
DTEND;TZID=America/Chicago:20250513T130000
DTSTAMP:20260419T220955
CREATED:20250417T182118Z
LAST-MODIFIED:20250417T182120Z
UID:10000061-1747137600-1747141200@doctorssupplementstore.com
SUMMARY:Butyrate and TUDCA: Their Roles in Enhancing Gut\, Brain\, and Cellular Health
DESCRIPTION:This webinar explores the critical roles of butyrate and TUDCA in supporting gut integrity\, brain function\, and overall cellular health. Led by Dr. Pooja Mahtani\, PharmD\, MS\, CNS\, LDN\, IFMCP\, a leading expert in functional medicine and clinical nutrition\, the session will uncover the mechanisms by which these powerful compounds influence the gut-brain axis\, reduce cellular stress\, and promote longevity. Attendees will gain insights into how butyrate enhances digestive and cognitive function\, regulates blood sugar\, and modulates inflammation\, while TUDCA supports liver health\, bile flow\, and neuroprotection. The session will also explore dosing strategies for incorporating these supplements into client protocols to tackle common digestive and cognitive health issues. \nREGISTER HERE
URL:https://doctorssupplementstore.com/event/butyrate-and-tudca-their-roles-in-enhancing-gut-brain-and-cellular-health/
LOCATION:Online
CATEGORIES:DSS is attending,Educational Event,Free Events,Online,Webinar
ATTACH;FMTTYPE=image/png:https://doctorssupplementstore.com/wp-content/uploads/2025/04/DSS-Events-Page-Feature-Image_-1600x900-px.png
ORGANIZER;CN="BodyBio":MAILTO:support@dssorders.com
END:VEVENT
BEGIN:VEVENT
DTSTART;VALUE=DATE:20250528
DTEND;VALUE=DATE:20250601
DTSTAMP:20260419T220955
CREATED:20250116T031820Z
LAST-MODIFIED:20250116T031820Z
UID:10000059-1748390400-1748735999@doctorssupplementstore.com
SUMMARY:IFM Annual International Conference 2025
DESCRIPTION:This conference will explore modern perspectives on transforming health that empower practitioners and inspire lasting change.
URL:https://doctorssupplementstore.com/event/ifm-annual-international-conference-2025/
CATEGORIES:Conference,DSS is attending
ATTACH;FMTTYPE=image/png:https://doctorssupplementstore.com/wp-content/uploads/2025/01/IFM-2025.png
ORGANIZER;CN="The Institute for Functional Medicine":MAILTO:info@ifm.org
END:VEVENT
END:VCALENDAR